BEGIN:VCALENDAR
VERSION:2.0
PRODID:Events Booking
BEGIN:VEVENT
UID:69e95ef2cd78a
SUMMARY:Partageons nos meilleures recettes de Noël
DESCRIPTION:
 
 
 
 
 
 
 
 
 
 
 Partageons nos meilleures rece
 ttes de Noel
 DESCRIPTION
 Dans cet atelier nous célébrerons la magie 
 de Noël à travers le partage de vos recettes traditionnelles préférée
 s. Cet atelier est l'occasion idéale pour vous de transmettre vos secrets
  culinaires\, d'échanger des idées et de vous remémorer les plats qui o
 nt illuminé vos fêtes de Noël. Partageons ensemble nos recettes et nos 
 histoires autour de cette période festive dans un cadre convivial et chal
 eureux.
  Préparez vos recettes et vos anecdotes\, et rejoignez-nous pou
 r un moment de partage et de joie !
 
 
 
 
 
 
 
 
 &nbsp\;
 

  ANIMÉ PARNada El Hamdadi
 &nbsp\;
 
 
 
 
 BIOGRAPHIE
 Agente de 
 développement communautaire chez Carrefour 50+
 
 
 
 
DTSTART:20241210T200000Z
DTSTAMP:20240723T234906Z
ORGANIZER;CN=Carrefour 50+ CB:MAILTO:dg@carrefour50cb.ca
END:VEVENT
END:VCALENDAR