BEGIN:VCALENDAR
VERSION:2.0
PRODID:Events Booking
BEGIN:VEVENT
UID:69e774120cfd8
SUMMARY:PILATES - Pilates Actif & posture dynamisée
DESCRIPTION:
 
 
 
 
 
 
 
 
 PILATES - Pilates actif et posture d
 ynamisée
 DESCRIPTION
 Un cours de Pilates axé sur la notion de postur
 e pour améliorer la conscience corporelle\, et comprendre dans la pratiqu
 e comment prendre soin de son corps et le tonifier dans ses postures du qu
 otidien.
 Cet atelier s'adresse à tout le monde sans pré-requis.
 
 
 
 
 
 
 
 
 
 &nbsp\;
 
 &nbsp\;
 
 ANIMÉ PARMargaux Clouet d
 ’Orval
 
 
 
 
 Margaux Clouet d’Orval est une ostéopathe franç
 aise. Diplômée de l’École Supérieure d’Ostéopathie (ESO Paris) en
  2020 (formation de 5 ans à temps plein)\, elle est également titulaire 
 d’un Master en Sciences du Sport (STAPS) de l’Université d’Évry-Va
 l-d’Essonne (France)\, spécialisé en biologie intégrative et adaptati
 ons de l’exercice pour la santé et la performance.&nbsp\;
 Son approch
 e est douce\, holistique et centrée sur le patient \; elle considère le 
 corps dans sa globalité afin de rétablir l’équilibre et la mobilité.
  Elle prend en charge des patients de tous âges et possède une expertise
  particulière en ostéopathie crânienne\, viscérale\, pédiatrique\, pr
 énatale et sportive.&nbsp\;
 Margaux a également exercé à l’Institu
 t Curie\, centre d’oncologie de renommée internationale. Bilingue fran
 çais-anglais\, elle continue de développer ses compétences cliniques gr
 âce à la formation continue et à des collaborations multidisciplinaires
 .
 
 
 
 
 
 
 
 &nbsp\;
 
 
 
 
 
 
 &nbsp\;
 
 
 
DTSTART:20260513T190000Z
DTSTAMP:20251216T101125Z
ORGANIZER;CN=Carrefour 50+ CB:MAILTO:dg@carrefour50cb.ca
END:VEVENT
END:VCALENDAR