BEGIN:VCALENDAR
VERSION:2.0
PRODID:Events Booking
BEGIN:VEVENT
UID:69e8834865b96
SUMMARY:Planifier sa retraite et ses finances
DESCRIPTION:
 
 
 
 
 
 
 
 
 
 
 Planifier sa retraite et ses f
 inances
 Planifiez votre retraite
 
      Les questions clés à se p
 oser
     Évaluer vos besoins
 
 Planification financière à long t
 erme
 
     Pourquoi planifier votre succession
     Faites votre 
 testament
     Les assurances
 
 Suzanne se fera le plaisir de répon
 dre à toutes vos questions
 
 
 
 
 
 
 
 
  
 
 ANIMÉ PARSu
 zanne Jacob
 
 
 
 
 BIOGRAPHIE
 Native de la ville de Québec\, je 
 suis arrivée en Colombie Britannique en 1990. Depuis le tout début\, ma 
 carrière a évolué dans le milieu financier\, assurance de personnes et 
 investissementS. Mon travail m’a permis de vivre dans plusieurs villes c
 anadiennes. Dans un premier temps\, j’ai été gestionnaire de bureaux d
 ’assurance et investissements\, mais il y a une quinzaine d’années j
 ’ai voulu faire un changement de carrière\, j’avais besoin de plus fl
 exibilité dans mon horaire\, je suis donc devenue conseillère financièr
 e\, je n’ai aucun regret. Quelle belle expérience\, ce qui me plait le 
 plus c’est le contact avec le client. Chaque histoire est différente et
  passionnante. Je suis toujours très honorée de faire partie de la solut
 ion.
 
 
 
 
DTSTART:20250910T190000Z
DTSTAMP:20250627T002220Z
ORGANIZER;CN=Carrefour 50+ CB:MAILTO:dg@carrefour50cb.ca
END:VEVENT
END:VCALENDAR