BEGIN:VCALENDAR
VERSION:2.0
PRODID:Events Booking
BEGIN:VEVENT
UID:69e76a6b41a30
SUMMARY:Postures au quotidien : petits gestes\, grands effets
DESCRIPTION:
 
 
 
 
 
 
 
 
 Postures au quotidien : petits geste
 s\, grands effets
 DESCRIPTION
 
 Ouvrir la lave-vaisselle\, se hisser 
 sur les points de pieds pour attraper de la vaisselle en hauteur\, lire le
 s dernières actualités sur son smartphone\, se baisser pour jardiner...C
 haque jour nous multiplions les postures qui peuvent créer des douleurs r
 écurrentes qui nous donnent l'impression de ne plus pouvoir faire certain
 es activités..Et si tout était question de posture ?Dans cet atelier Nic
 ole vous donnera toutes les astuces pour transformer vos actions du quotid
 ien en opportunités supplémentaires de prendre soin de votre corps.
 

  
 
 
 
 
 
 
 
 
 
 &nbsp\;
 
 ANIMÉ PARNicole Williamson
 
 
 
 
 
 Nicole est ostéopathe diplômée d’une formation complète 
 de 5 ans (4800 heures) en thérapie manuelle ostéopathique\, obtenue au C
 ollège d’Ostéopathie de Bordeaux.Passionnée par son métier\, elle a 
 développé une pratique riche grâce à des expériences variées en mili
 eu sportif et auprès d’enfants en situation de handicap. Son parcours i
 nclut également une expérience d’enseignement\, témoignant de son eng
 agement et de sa maîtrise de la discipline.Lors de sa dernière année d
 ’études\, elle a mené une recherche sur l’impact des traitements ost
 éopathiques sur le stress\, intégrant ainsi une dimension somato-émotio
 nnelle à sa pratique.Membre d’OsteopathyBC\, elle propose une approche 
 personnalisée et rigoureuse\, combinant différentes techniques adaptées
  aux besoins de chaque patient.
 
 
 
 
 
 
 
 &nbsp\;
 
 
 
 
 
 
 
 &nbsp\;
 
 
 
DTSTART:20260429T190000Z
DTSTAMP:20251216T084448Z
ORGANIZER;CN=Carrefour 50+ CB:MAILTO:dg@carrefour50cb.ca
END:VEVENT
END:VCALENDAR