BEGIN:VCALENDAR
VERSION:2.0
PRODID:Events Booking
BEGIN:VEVENT
UID:69e8eab865080
SUMMARY:Pratiquer l'auto-compassion 
DESCRIPTION:
 
 
 
 
 
 
 
 
 
 
 Pratiquer l'auto-compassion
 
 DESCRIPTION
 &nbsp\;
 
 
 
 
 
 
 
 
 &nbsp\;
 
 ANIMÉ PARLau
 re Sabini
 
 
 
 
 BIOGRAPHIE
 Laure pratique la méditation depuis 
 2008. Son propre parcours de santé l'a fait découvrir plusieurs thérapi
 es. C’est quand elle a découvert la pleine conscience qu’elle a réal
 isé qu’elle avait trouvé ce qu’elle cherchait. La pleine conscience 
 est appelée à devenir un rituel de santé aussi habituel que de se bross
 er les dents ! Son but est de partager ses outils pour rendre la vie des g
 ens plus belle et sereine.
 
 
 
 
DTSTART:20250506T190000Z
DTSTAMP:20221005T041735Z
ORGANIZER;CN=Carrefour 50+ CB:MAILTO:dg@carrefour50cb.ca
END:VEVENT
END:VCALENDAR