BEGIN:VCALENDAR
VERSION:2.0
PRODID:Events Booking
BEGIN:VEVENT
UID:69e5523619e8c
SUMMARY:Prévenir les fuites urinaires chez les hommes 
DESCRIPTION:
 
 
 
 
 
 
 
 
 
 
 Prévenir les fuites urinaires
  chez les hommes 
 DESCRIPTION
 L’incontinence urinaire touche le tier
 s des hommes et son incidence augmente avec l’âge. Dans l’atelier\, n
 ous expliquerons les causes des fuites d’urine chez l’homme. Nous disc
 uterons de l’impact des pathologies comme l’hypertrophie de la prostat
 e ainsi que le cancer de la prostate. Nous parlerons des exercices et cons
 eils pour prévenir et diminuer les fuites d’urine.
 
 
 
 
 
 
 
 
 
  
 
 ANIMÉ PARMarie-Hélène Paquin 
 
 
 
 
 BIOGRAPHIE

  Marie-Hélène Paquin a obtenu son diplôme de physiothérapie en 2001 à
  l’Université Laval et une attestation universitaire dans le cadre du m
 icroprogramme en rééducation périnéale et pelvienne (RPP) à l’Unive
 rsité de Montréal en 2012. Diplômée d’une maîtrise de recherche en 
 réadaptation à l’Université de Montréal en 2020\, elle a étudié la
  relation entre les chutes et l’incontinence. Mme Paquin exerce auprès 
 d’une clientèle orthopédique et d’une clientèle en rééducation p
 érinéale. Elle a une expertise auprès de la clientèle homme en réédu
 cation périnéale. Elle enseigne au microprogramme en RPP de l’Universi
 té de Montréal le cours sur l’incontinence urinaire chez l’homme.
 
 
 
 
 
DTSTART:20230609T190000Z
DTSTAMP:20230210T071027Z
ORGANIZER;CN=Carrefour 50+ CB:MAILTO:dg@carrefour50cb.ca
END:VEVENT
END:VCALENDAR