BEGIN:VCALENDAR
VERSION:2.0
PRODID:Events Booking
BEGIN:VEVENT
UID:69e86de50db17
SUMMARY:Promouvoir un vieillissement cognitif en santé
DESCRIPTION:
 
 
 
 
 
 
 
 
 
 
 Promouvoir un vieillissement c
 ognitif en santé
  
 DESCRIPTION
 Le vieillissement fait naturellemen
 t partie de la vie\, mais saviez-vous qu’il est possible d’agir pour p
 réserver et même stimuler vos capacités cognitives avec l’âge? Cet a
 telier interactif vous renseigne sur la recherche biomédicale visant à i
 dentifier des stratégies accessibles pour entretenir votre mémoire\, vot
 re attention et votre vivacité d’esprit au quotidien.
 Au programme :
  Les facteurs qui influencent la santé cognitive Les habitudes de vie q
 ui favorisent un cerveau en forme Les mécanismes impliqués au niveau ce
 llulaire et moléculaire
 Cet atelier s’adresse à toute personne de 50
  ans et plus souhaitant rester mentalement active et autonome\, dans une a
 mbiance conviviale et bienveillante.
 Prenez soin de votre cerveau dès a
 ujourd’hui… pour mieux profiter de demain!
 
 
 
 
 
 
 
 
 
  
 
 ANIMÉ PARMarie-Eve Tremblay 
 
 
 
 
  
 Marie-Ève Tremb
 lay est professeure-chercheure à l’University of Victoria. Son équipe 
 étudie comment garder nos microglies\, soit les cellules immunitaires du 
 cerveau\, en santé tout au long de la vie. Sa présentation couvrira les 
 conséquences du mode de vie et de l’environnement sur ces cellules impo
 rtantes. Différentes stratégies thérapeutiques seront abordées. Le but
  de ses travaux est de promouvoir un vieillissement cognitif en santé.
 
  
 
 
 
 
 
 
 
  
 
 
 
 
 
 
  
 
 
 
DTSTART:20251008T190000Z
DTSTAMP:20250709T001821Z
ORGANIZER;CN=Carrefour 50+ CB:MAILTO:dg@carrefour50cb.ca
END:VEVENT
END:VCALENDAR