BEGIN:VCALENDAR
VERSION:2.0
PRODID:Events Booking
BEGIN:VEVENT
UID:69e973bb5e325
SUMMARY:Redécouvrir le bien-être
DESCRIPTION:
 
 
 
 
 
 
 
 
 
 
 &nbsp\;
 
 ANIMÉ PARMarie-F
 rance Lapierre
 Marie-France travaille comme psychologue depuis plus de 3
 0 ans. Elle pratique également comme coach de vie\, de transition\, et de
  leadership. Elle a travaillé à de nombreux clients comment prendre mieu
 x soin de soi - et ce\, de façon préventive et non seulement en temps de
  crises. Joignez-vous à Marie-France pour apprendre davantage comment “
 Lâchez prise” et le faire de façon proactive\, non pas simplement en r
 éponse au stress.
 
 
 
 
 DESCRIPTION:&nbsp\;
 Cette formation con
 cise et dynamique vous permettra d’explorer les dimensions essentielles 
 du bien-être - physique\, mental\, émotionnel\, et spirituel. Marie-Fran
 ce Lapierre vous offrira des pratiques simples et efficaces à intégrer d
 ans votre quotidien pour améliorer votre qualité de vie. Que vous cherch
 iez à réduire le stress\, à améliorer votre santé mentale\, ou à ret
 rouver un sens d'harmonie et de sérénité\, joignez-vous à nous pour un
 e heure inspirante. Venez découvrir des stratégies concrètes pour culti
 ver votre bien-être global et repartir avec des outils pratiques pour viv
 re une vie plus équilibrée et épanouie.
 
 
 
 
DTSTART:20241126T200000Z
DTSTAMP:20230201T072115Z
ORGANIZER;CN=Carrefour 50+ CB:MAILTO:dg@carrefour50cb.ca
END:VEVENT
END:VCALENDAR