BEGIN:VCALENDAR
VERSION:2.0
PRODID:Events Booking
BEGIN:VEVENT
UID:69e884558b6f4
SUMMARY:Redéfinir son cap après 50 ans
DESCRIPTION:
 
 
 
  
 
 
 
 
 
 
 
 
 
 
 
 
 
 
 
 R
 edéfinir son cap après 50 ans 
 Approche en 4 temps :
 1. CHEMIN PARC
 OURU :
 Revisitez les étapes clés de votre vie : réussites\, obstacles
  franchis\, soutiens reçus\, souvenirs précieux.
 2. CHEMIN À VENIR
 
 Imaginez vos envies\, vos élans\, les défis à relever et ce que vous so
 uhaitez encore vivre ou
 transmettre.
 3. REGARDER SON VOYAGE D’EN HAU
 T\, COMME UN AIGLE…
 Prenez de la hauteur sur votre voyage de vie\, com
 me un oiseau qui survole son territoire.
 4. ECHANGES ET PARTAGE (toujour
 s facultatif)
 
 Un temps libre d’échange pour celles et ceux qui sou
 haitent partager leur carte de voyage.
  
 
 
 
 
 
 
 
 
  

  
 ANIMÉ PARDominique Mascle
 
 
 
 
 BIOGRAPHIE
 Coach et Sophrol
 ogue
 Pendant 20 ans\, j’ai accompagné des groupes et des individus en
  bien-être et santé mentale à Paris et Annecy en France.
 Diplômée d
 e deux Master en Ressources Humaines et Communication\, certifiée en Coac
 hing et Sophrologie\, je suis experte en transition de vie\, situations et
  choix difficiles.
 Spécialiste de la résilience\, je propose des temps
  d’écoute\, de recentrage et de transformation à travers des approches
  à la fois créatives et profondes.
 
 Basée sur l'île de Vancouver\,
  je m’inspire de la nature pour nourrir mes accompagnements.
  
 
 
 
 
 
 
 
 
  
 
 
 
DTSTART:20250903T190000Z
DTSTAMP:20250703T234259Z
ORGANIZER;CN=Carrefour 50+ CB:MAILTO:dg@carrefour50cb.ca
END:VEVENT
END:VCALENDAR