BEGIN:VCALENDAR
VERSION:2.0
PRODID:Events Booking
BEGIN:VEVENT
UID:69e822370af75
SUMMARY:Pension\, sécurité vieillesse et soins dentaires
DESCRIPTION:
 
 
 
 
 
 
 
 
 Régime de pension\, sécurité de l
 a vieillessa et soins dentaires - SERVICE CANADA
 &nbsp\;
 DESCRIPTION

  Présentation détaillée de chacun de ces services avec possibilité de 
 poser toutes vos question au cours d'une séance de questions-réponses de
  15 minutes à la fin de la session.
 
 
 
 
 
 
 
 
 &nbsp\;
 
 
 ANIMÉ PARJulie Veer
 
 
 
 
 &nbsp\;
 Julie travaille depuis plus
  de 8 ans à Service Canada.&nbsp\;Elle est bilingue et demeure dans la Va
 llée du Fraser depuis plus de 20 ans.
 &nbsp\;
 
 
 
 
 
 
 
 &n
 bsp\;
 
 
 
 
 
 
 &nbsp\;
 
 
 
DTSTART:20260114T200000Z
DTSTAMP:20251213T085319Z
ORGANIZER;CN=Carrefour 50+ CB:MAILTO:dg@carrefour50cb.ca
END:VEVENT
END:VCALENDAR