BEGIN:VCALENDAR
VERSION:2.0
PRODID:Events Booking
BEGIN:VEVENT
UID:69e7f30a2b8c4
SUMMARY:Respire et libère ton stress
DESCRIPTION:
 
 
 
 
 
 
 
 
 Respire et libère ton stress
 DESC
 RIPTION
 
 Lors de cet atelier\, Margaux vous expliquera simplement comm
 ent fonctionne la respiration\, comment elle est influencée par le stress
  et en quoi elle peut devenir un outil précieux pour apaiser le corps et 
 le mental.Vous découvrirez des astuces de respiration simples et pratique
 s\, accessibles à tous\, à utiliser à tout moment de la journée et de 
 la nuit pour relâcher les tensions.Un atelier concret et bienveillant\, p
 our repartir avec des clés faciles à mettre en œuvre immédiatement au 
 quotidien.
 
 
 
 
 
 
 
 
 
 
 
 &nbsp\;
 
 ANIMÉ PARMarga
 ux Clouet d’Orval
 
 
 
 
 Margaux Clouet d’Orval est une ostéop
 athe française. Diplômée de l’École Supérieure d’Ostéopathie (ES
 O Paris) en 2020 (formation de 5 ans à temps plein)\, elle est également
  titulaire d’un Master en Sciences du Sport (STAPS) de l’Université d
 ’Évry-Val-d’Essonne (France)\, spécialisé en biologie intégrative 
 et adaptations de l’exercice pour la santé et la performance.&nbsp\;
 
 Son approche est douce\, holistique et centrée sur le patient \; elle con
 sidère le corps dans sa globalité afin de rétablir l’équilibre et la
  mobilité. Elle prend en charge des patients de tous âges et possède un
 e expertise particulière en ostéopathie crânienne\, viscérale\, pédia
 trique\, prénatale et sportive.&nbsp\;
 Margaux a également exercé à 
 l’Institut Curie\, centre d’oncologie de renommée internationale. Bil
 ingue français-anglais\, elle continue de développer ses compétences cl
 iniques grâce à la formation continue et à des collaborations multidisc
 iplinaires.
 
 
 
 
 
 
 
 &nbsp\;
 
 
 
 
 
 
 &nbsp\;
 
 
 
 
DTSTART:20260225T200000Z
DTSTAMP:20251216T082537Z
ORGANIZER;CN=Carrefour 50+ CB:MAILTO:dg@carrefour50cb.ca
END:VEVENT
END:VCALENDAR