BEGIN:VCALENDAR
VERSION:2.0
PRODID:Events Booking
BEGIN:VEVENT
UID:69e80b432c5c1
SUMMARY:Sites et applis de rencontres : codes\, pièges et bonnes pratiques
DESCRIPTION:
 
 
 
 
 
 
 
 
 Sites et applications de rencontre :
  codes\, pièges et bonnes pratiques.
 DESCRIPTION
 Faire de belles renc
 ontres sans se faire engloutir par la réalité du digital\, c’est possi
 ble et c’est ce dont on va parler ensemble.
 &nbsp\;
 Objectifs :&nbsp
 \;
 Comprendre les codes et choisir les bonnes plateformes
 Créer un pr
 ofil sincère et à son image
 Distinguer les drapeaux rouges et les feux
  verts
 Se rencontrer en personne en toute sécurité
 &nbsp\;
 Un atel
 ier concret et plein de ressources pour des rencontres en ligne sincères 
 et enrichissantes.
 
 
 
 
 
 
 
 
 
 
 &nbsp\;
 
 ANIMÉ PAR
 Audrey Dupuy
 
 
 
 
 &nbsp\;
 Praticienne certifiée en santé ment
 ale\, gestion de crise et accompagnement de fin de vie\, je donne des atel
 iers de développement personnel et j'accompagne depuis plus de cinq ans d
 es femmes en quête de transformation intérieure et d’épanouissement\,
  dans tous les chapitres de leur vie. 
 &nbsp\;
 
 
 
 
 
 
 
 &n
 bsp\;
 
 
 
 
 
 
 &nbsp\;
 
 
 
DTSTART:20260211T200000Z
DTSTAMP:20251216T070938Z
ORGANIZER;CN=Carrefour 50+ CB:MAILTO:dg@carrefour50cb.ca
END:VEVENT
END:VCALENDAR