BEGIN:VCALENDAR
VERSION:2.0
PRODID:Events Booking
BEGIN:VEVENT
UID:69e88393dae95
SUMMARY:Tout savoir sur votre santé pelvienne
DESCRIPTION:
 
 
 
 
 
 
 
 
 
 
 Tout savoir sur votre santé p
 elvienne
 DESCRIPTION
 La santé pelvienne en période de péri-post mé
 nopause.
 Cet atelier a pour objectif de sensibiliser les femmes aux enje
 ux de la santé pelvienne durant la périménopause et la postménopause. 
 A travers des explications claires et des exercices pratiques\, les partic
 ipantes découvriront les changements physiologiques liés à cette pério
 de de vie\, notamment ceux touchant les muscles du plancher pelvien\, la f
 onction urinaire et sexuelle. 
 L'atelier aborde également les troubles
  fréquents (incotinence\, prolapsus\, sécheresse vaginale\, douleurs pel
 viennes) ainsi que les solutions possibles: rééducation périneale\, hyg
 iène de vie\, exercices adaptés\, approches médicales et alternatives.
  
 Joignez-vous à nous pour cette présentation où les échanges et le
 s questions seront les bienvenues dans un climat bienveillant et sans tabo
 u afin de parler d'un sujet encore trop souvent méconnu ou ignoré. 
 
 
 
 
 
 
 
 
 
  
 
 ANIMÉ PARJoanie Mercier
  
 
 
 
 

  BIOGRAPHIE
 Joanie est physiothérapeute et détient un doctorat en scie
 nces de la réadaptation de l’Université de Montréal (2020). Ses étud
 es doctorales ont porté sur l’évaluation de l’effet d’un programme
  d’exercices des muscles du plancher pelvien sur les signes et symptôme
 s du syndrome génito-urinaire de la ménopause (atrophie vaginale) auprè
 s de femmes post-ménopausées. Ayant fait le saut vers la Colombie-Britan
 nique en 2020\, elle travaille actuellement avec des clientèles ayant des
  problématiques périnéales et pelviennes (incontinence urinaire et féc
 ale\, douleur\, prolapsus pelviens) auprès de femmes et d’hommes de tou
 s âges.  
 
 
 
 
 
 
 
  
 
 
 
 
 
 
  
 
 
 
 

  
 
  
 
 
 
 
 
 
  
 
 
 
 
 
 
  
 
 
 
 
 
 
 
  
 
 
 
 
 
 
  
 
 
 
DTSTART:20250924T190000Z
DTSTAMP:20250705T004601Z
ORGANIZER;CN=Carrefour 50+ CB:MAILTO:dg@carrefour50cb.ca
END:VEVENT
END:VCALENDAR