BEGIN:VCALENDAR
VERSION:2.0
PRODID:Events Booking
BEGIN:VEVENT
UID:69e9745cef023
SUMMARY:Traumatismes transgénérationnels : quand les maux d’autrefois b
 lessent encore
DESCRIPTION:
 
 
 
 
 
 
 
 
 
 &nbsp\;
 &nbsp\;
 
 ANIMÉ PAR
 Jessica Dupuis
 Coordonnatrice nationale en gestion de projet pour la Fé
 dération des Aînés et des Aînées francophones du Canada et intervenan
 te psychosociale.
 
 
 
 
 DESCRIPTION
 Les blessures du passé peuv
 ent avoir un impact profond sur notre présent. Explorez les secrets enfou
 is des générations précédentes et apprenez comment briser le cycle de 
 la douleur lors de cette conférence sur les traumatismes transgénératio
 nnels. Découvrez comment comprendre et surmonter ces blessures invisibles
  pour vivre une vie plus épanouie.
 &nbsp\;
 Objectifs: Sensibiliser le
 s participants aux traumatismes transgénérationnels\, les aider à recon
 naître leurs effets dans leur propre vie et les outiller afin qu’ils pu
 issent aborder ces questions de manière constructive.
 &nbsp\;
 &nbsp\;
 
 
 
 
 
DTSTART:20241119T210000Z
DTSTAMP:20230127T030932Z
ORGANIZER;CN=Carrefour 50+ CB:MAILTO:dg@carrefour50cb.ca
END:VEVENT
END:VCALENDAR