BEGIN:VCALENDAR
VERSION:2.0
PRODID:Events Booking
BEGIN:VEVENT
UID:69e98d5176abb
SUMMARY:Urgence médicale à domicile\, êtes-vous prêts?
DESCRIPTION:
 
 
 
 
 
 
 
 
 
 &nbsp\;
 &nbsp\;
 
 ANIMÉ PAR
 Jessica Dupuis
 Coordonnatrice nationale en gestion de projet pour la Fé
 dération des Aînés et des Aînées francophones du Canada et intervenan
 te psychosociale.
 
 
 
 
 DESCRIPTION
 Nul n’est à l’abris d
 ’être confronté à un moment ou à un autre à une situation d’urgen
 ce médicale à son domicile.
 &nbsp\;
 Que ce soit en raison de différ
 entes pathologies ou d’un accident\, certaines situations nécessitent u
 ne réponse immédiate et rapide afin de secourir la personne qui en est v
 ictime.
 &nbsp\;
 Objectifs: Fournir des outils pratiques pour reconnaî
 tre et être préparé à faire face à des situations d’urgences médic
 ales potentielles à domicile.
 
 
 
 
 
DTSTART:20241008T190000Z
DTSTAMP:20230127T030932Z
ORGANIZER;CN=Carrefour 50+ CB:MAILTO:dg@carrefour50cb.ca
END:VEVENT
END:VCALENDAR